BEGIN:VCALENDAR
VERSION:2.0
PRODID:-//Oslo Kvartettforening - ECPv6.7.0//NONSGML v1.0//EN
CALSCALE:GREGORIAN
METHOD:PUBLISH
X-WR-CALNAME:Oslo Kvartettforening
X-ORIGINAL-URL:https://kvartetforeningen.org
X-WR-CALDESC:Arrangement for Oslo Kvartettforening
REFRESH-INTERVAL;VALUE=DURATION:PT1H
X-Robots-Tag:noindex
X-PUBLISHED-TTL:PT1H
BEGIN:VTIMEZONE
TZID:Europe/Oslo
BEGIN:DAYLIGHT
TZOFFSETFROM:+0100
TZOFFSETTO:+0200
TZNAME:CEST
DTSTART:20200329T010000
END:DAYLIGHT
BEGIN:STANDARD
TZOFFSETFROM:+0200
TZOFFSETTO:+0100
TZNAME:CET
DTSTART:20201025T010000
END:STANDARD
BEGIN:DAYLIGHT
TZOFFSETFROM:+0100
TZOFFSETTO:+0200
TZNAME:CEST
DTSTART:20210328T010000
END:DAYLIGHT
BEGIN:STANDARD
TZOFFSETFROM:+0200
TZOFFSETTO:+0100
TZNAME:CET
DTSTART:20211031T010000
END:STANDARD
BEGIN:DAYLIGHT
TZOFFSETFROM:+0100
TZOFFSETTO:+0200
TZNAME:CEST
DTSTART:20220327T010000
END:DAYLIGHT
BEGIN:STANDARD
TZOFFSETFROM:+0200
TZOFFSETTO:+0100
TZNAME:CET
DTSTART:20221030T010000
END:STANDARD
BEGIN:DAYLIGHT
TZOFFSETFROM:+0100
TZOFFSETTO:+0200
TZNAME:CEST
DTSTART:20230326T010000
END:DAYLIGHT
BEGIN:STANDARD
TZOFFSETFROM:+0200
TZOFFSETTO:+0100
TZNAME:CET
DTSTART:20231029T010000
END:STANDARD
BEGIN:DAYLIGHT
TZOFFSETFROM:+0100
TZOFFSETTO:+0200
TZNAME:CEST
DTSTART:20240331T010000
END:DAYLIGHT
BEGIN:STANDARD
TZOFFSETFROM:+0200
TZOFFSETTO:+0100
TZNAME:CET
DTSTART:20241027T010000
END:STANDARD
BEGIN:DAYLIGHT
TZOFFSETFROM:+0100
TZOFFSETTO:+0200
TZNAME:CEST
DTSTART:20250330T010000
END:DAYLIGHT
BEGIN:STANDARD
TZOFFSETFROM:+0200
TZOFFSETTO:+0100
TZNAME:CET
DTSTART:20251026T010000
END:STANDARD
BEGIN:DAYLIGHT
TZOFFSETFROM:+0100
TZOFFSETTO:+0200
TZNAME:CEST
DTSTART:20260329T010000
END:DAYLIGHT
BEGIN:STANDARD
TZOFFSETFROM:+0200
TZOFFSETTO:+0100
TZNAME:CET
DTSTART:20261025T010000
END:STANDARD
END:VTIMEZONE
BEGIN:VEVENT
DTSTART;TZID=Europe/Oslo:20260409T183000
DTEND;TZID=Europe/Oslo:20260409T210000
DTSTAMP:20260424T133656
CREATED:20260120T071050Z
LAST-MODIFIED:20260317T152750Z
UID:1727-1775759400-1775768400@kvartetforeningen.org
SUMMARY:Spillekveld rett etter påske
DESCRIPTION:Velkommen til Spillekveld i Ths. Heftyes gate 42B \nDet blir godt å komme i spille-form igjen etter påsken. Denne gangen hedrer vi jubileumsåret med Svendsens oktett og spiller i tillegg Brahms op 51 no 2 i a-moll.  Meld deg på til kvartettforeningen @ gmail.com \n 
URL:https://kvartetforeningen.org/event/spillekveld-rett-etter-paske/
LOCATION:Thomas Heftyes gate 42B
CATEGORIES:Spillekveld
ORGANIZER;CN="Oslo Kvartettforening":MAILTO:kvartettforeningen@gmail.com
END:VEVENT
BEGIN:VEVENT
DTSTART;TZID=Europe/Oslo:20260205T183000
DTEND;TZID=Europe/Oslo:20260205T213000
DTSTAMP:20260424T133656
CREATED:20260120T070808Z
LAST-MODIFIED:20260120T071233Z
UID:1725-1770316200-1770327000@kvartetforeningen.org
SUMMARY:Årets første spillekveld
DESCRIPTION:Velkommen til spillekveld i Thomas Heftyes gate 42B \nTa med instrument og en gjerne en venn. Vi koser oss med Beethoven og Mozart\, og kanskje noe du tar med deg?
URL:https://kvartetforeningen.org/event/arets-forste-spillekveld/
LOCATION:Thomas Heftyes gate 42B
CATEGORIES:Spillekveld
ORGANIZER;CN="Oslo Kvartettforening":MAILTO:kvartettforeningen@gmail.com
END:VEVENT
BEGIN:VEVENT
DTSTART;TZID=Europe/Oslo:20251204T183000
DTEND;TZID=Europe/Oslo:20251204T210000
DTSTAMP:20260424T133656
CREATED:20250901T134554Z
LAST-MODIFIED:20251128T141442Z
UID:1675-1764873000-1764882000@kvartetforeningen.org
SUMMARY:Spillekveld i desember
DESCRIPTION:Denne gangen er det Beethoven opus 18 nr. 6  og Brandenburgerkonsert nr. 3 som står for tur. Har du andre ønsker om hva du vil vi skal spille\, kan du sende ditt ønske til kvartettforeningen @ gmai.com.
URL:https://kvartetforeningen.org/event/spillekveld-i-desember/
LOCATION:Thomas Heftyes gate 42B
CATEGORIES:Spillekveld
ATTACH;FMTTYPE=image/jpeg:https://kvartetforeningen.org/wp-content/uploads/2024/01/Bilde_strykekvartett.jpg
ORGANIZER;CN="Oslo Kvartettforening":MAILTO:kvartettforeningen@gmail.com
END:VEVENT
BEGIN:VEVENT
DTSTART;TZID=Europe/Oslo:20251009T183000
DTEND;TZID=Europe/Oslo:20251009T210000
DTSTAMP:20260424T133656
CREATED:20250901T134335Z
LAST-MODIFIED:20250907T184207Z
UID:1673-1760034600-1760043600@kvartetforeningen.org
SUMMARY:Spillekveld i oktober
DESCRIPTION:Velkommen til Spillekveld! \nVi forsøker oss på Brahms sekstett i B-dur og Mozart kvintett i D-dur. \n 
URL:https://kvartetforeningen.org/event/spillekveld-i-oktober/
LOCATION:Thomas Heftyes gate 42B
CATEGORIES:Spillekveld
ATTACH;FMTTYPE=image/jpeg:https://kvartetforeningen.org/wp-content/uploads/2024/01/Bilde_strykekvartett_Helle_Stolz.jpg
ORGANIZER;CN="Oslo Kvartettforening":MAILTO:kvartettforeningen@gmail.com
END:VEVENT
BEGIN:VEVENT
DTSTART;TZID=Europe/Oslo:20250605T183000
DTEND;TZID=Europe/Oslo:20250605T210000
DTSTAMP:20260424T133656
CREATED:20250530T072300Z
LAST-MODIFIED:20250602T060603Z
UID:1664-1749148200-1749157200@kvartetforeningen.org
SUMMARY:Årsmøte og spillekveld
DESCRIPTION:Årsmøtet avholdes i Ths. Heftyes gate 42 b\, Torsdag 5 juni kl. 18.30. Vi fortsetter med spillekveld umiddelbart etter gjennomføring av årsmøtet. Det vil også bli servert mat og drikke. Vi forsetter med Schumann klaverkvartett op 47. 3. sats og Mozart kvintetter. \nHvert medlem kan ta med seg en lyttende eller spillende gjest. \nSend påmelding til kvartettforeningen @ gmail.com – da får du tilsendt saksliste og årsmøtepapirer. \nVel møtt!
URL:https://kvartetforeningen.org/event/arsmote-og-spillekveld/
LOCATION:Thomas Heftyes gate 42B
ORGANIZER;CN="Oslo Kvartettforening":MAILTO:kvartettforeningen@gmail.com
END:VEVENT
BEGIN:VEVENT
DTSTART;TZID=Europe/Oslo:20250403T183000
DTEND;TZID=Europe/Oslo:20250403T210000
DTSTAMP:20260424T133656
CREATED:20250223T111341Z
LAST-MODIFIED:20250223T111759Z
UID:1654-1743705000-1743714000@kvartetforeningen.org
SUMMARY:Spillekveld med Shumann
DESCRIPTION:Mer informasjon kommer. Meld gjerne din interesse til kvartettforeningen  @ gmail.com allerede nå.
URL:https://kvartetforeningen.org/event/spillekveld-med-shumann/
LOCATION:Spillestuen\, Th. Heftyes gate 42b\, OSLO\, 0104\, Norway
CATEGORIES:Spillekveld
ORGANIZER;CN="Oslo Kvartettforening":MAILTO:kvartettforeningen@gmail.com
END:VEVENT
BEGIN:VEVENT
DTSTART;TZID=Europe/Oslo:20250206T183000
DTEND;TZID=Europe/Oslo:20250206T210000
DTSTAMP:20260424T133656
CREATED:20250122T084413Z
LAST-MODIFIED:20250130T072009Z
UID:1638-1738866600-1738875600@kvartetforeningen.org
SUMMARY:Velkommen til spillekveld 6. februar
DESCRIPTION:Velkommen til første spillekveld i 2025! Meld deg på til kvartettforeningen @ gmail.com. Send gjerne ønsker om hva du vil spille sammen med påmeldingen\,  så forsøker vi å skaffe noter. Ta med instrument og en venn. Du kan komme alene eller med en gruppe.  Din gruppe kan også fremføre noe for oss andre som dere har spilt før. Er du interessert? \nVi starter med en Mozart kvintett og fortsetter med Dvorak Nr 12 i fdur\, op. 96 \nVi sees på Spillekveld 6. februar kl. 18.30!
URL:https://kvartetforeningen.org/event/velkommen-til-spillekveld-6-februar/
LOCATION:I spisestuen\, Thomas Heftyes gate 42b\, Oslo
CATEGORIES:Spillekveld
ORGANIZER;CN="Oslo Kvartettforening":MAILTO:kvartettforeningen@gmail.com
END:VEVENT
BEGIN:VEVENT
DTSTART;TZID=Europe/Oslo:20241209T183000
DTEND;TZID=Europe/Oslo:20241209T210000
DTSTAMP:20260424T133656
CREATED:20241029T080322Z
LAST-MODIFIED:20241029T080544Z
UID:1623-1733769000-1733778000@kvartetforeningen.org
SUMMARY:Førjuls spillekveld
DESCRIPTION:Velkommen til førjulstreff i Ths. Heftyes gate 42 mandag 9.desember kl 18.30. Vi satser på Beethoven Opus 18 no 1 og fortsetter med Mozart kvintetter. Ta gjerne men noter på noe du har lyst til å spille. Send påmelding til kvartettforeningen @ gmail.com. Ta også gjerne med en venn – det er også lov til å bare lytte.
URL:https://kvartetforeningen.org/event/forjuls-spillekveld/
LOCATION:I spisestuen\, Thomas Heftyes gate 42b\, Oslo
CATEGORIES:Spillekveld
ORGANIZER;CN="Oslo Kvartettforening":MAILTO:kvartettforeningen@gmail.com
END:VEVENT
BEGIN:VEVENT
DTSTART;TZID=Europe/Oslo:20241122T170000
DTEND;TZID=Europe/Oslo:20241124T170000
DTSTAMP:20260424T133656
CREATED:20231216T105232Z
LAST-MODIFIED:20240927T091129Z
UID:1579-1732294800-1732467600@kvartetforeningen.org
SUMMARY:Kvartetthelg 2024
DESCRIPTION:Kvartettforeningen er så heldige at vi også i 2024 kan samarbeide med Engegård-kvartetten om kvartetthelg. Vi gleder oss til god musikalske opplevelser i uke 47. \nKvartetthelg arrangeres i Uranienborg menighetshus. Har du lyst til å være med? Send en epost til kvartettforeningen @ gmail.com før 3. oktober. \nVelkommen!!!
URL:https://kvartetforeningen.org/event/kvartetthelg-2024/
LOCATION:Uranienborg menighetshus\, Daasgate 17\, Oslo\, Norge
ORGANIZER;CN="Oslo Kvartettforening":MAILTO:kvartettforeningen@gmail.com
END:VEVENT
BEGIN:VEVENT
DTSTART;TZID=Europe/Oslo:20241024T183000
DTEND;TZID=Europe/Oslo:20241024T213000
DTSTAMP:20260424T133656
CREATED:20240927T092234Z
LAST-MODIFIED:20240927T092234Z
UID:1610-1729794600-1729805400@kvartetforeningen.org
SUMMARY:Spillekveld 24. oktober kl 18.30
DESCRIPTION:Velkommen til Spillekveld hos Esther i Thomas Heftyes gate 42b 24. oktober 2024 kl. 18.30. Ta med instrument og en venn. Du kan komme alene eller med en gruppe.  Din gruppe kan også fremføre noe for oss andre som dere har spilt før. Er du interessert? Ta kontakt med Hedvig på adresse: kvartettforeningen @ gmail.com
URL:https://kvartetforeningen.org/event/spillekveld-24-oktober-kl-18-30/
LOCATION:I spisestuen\, Thomas Heftyes gate 42b\, Oslo
END:VEVENT
BEGIN:VEVENT
DTSTART;TZID=Europe/Oslo:20240411T183000
DTEND;TZID=Europe/Oslo:20240411T213000
DTSTAMP:20260424T133656
CREATED:20240224T104144Z
LAST-MODIFIED:20240224T104308Z
UID:1596-1712860200-1712871000@kvartetforeningen.org
SUMMARY:Spillekveld
DESCRIPTION:Velkommen til Spillekveld hos Esther i Thomas Heftyes gate 42b 11. april kl. 18.30. Ta med instrument og en venn. Vi tenker å spille Haydn op. 77 nr. 1 og eller det vi finner på etter hvert. Din gruppe kan også fremføre noe for oss andre som dere har spilt før. Er du interessert? Ta kontakt med Hedvig på adresse: kvartettforeningen @ gmail.com.
URL:https://kvartetforeningen.org/event/spillekveld/
LOCATION:I spisestuen\, Thomas Heftyes gate 42b\, Oslo
END:VEVENT
BEGIN:VEVENT
DTSTART;TZID=Europe/Oslo:20240407T200000
DTEND;TZID=Europe/Oslo:20240407T210000
DTSTAMP:20260424T133656
CREATED:20240224T105118Z
LAST-MODIFIED:20240224T105238Z
UID:1599-1712520000-1712523600@kvartetforeningen.org
SUMMARY:Ekstraordinær generalforsamling
DESCRIPTION:Det vil bli avholdt ekstraordinær generalforsamling  7. april. Møtet vil bli avholdt på Zoom. Agenda og saksdokumenter vil bli sendt ut på e-post. \nHilsen interimsstyret \n 
URL:https://kvartetforeningen.org/event/ekstraordinaer-generalforsamling/
END:VEVENT
BEGIN:VEVENT
DTSTART;TZID=Europe/Oslo:20240125T080000
DTEND;TZID=Europe/Oslo:20240125T183000
DTSTAMP:20260424T133656
CREATED:20240119T143728Z
LAST-MODIFIED:20240119T143728Z
UID:1586-1706169600-1706207400@kvartetforeningen.org
SUMMARY:Velkommen til spillekveld!
DESCRIPTION:Ta med instrument og en venn. Vi bladspiller Haydn opus 77 no. 1 eller Jaktkvartetten av Mozart? Kom alene eller sammen med din kammergruppe. \nMeld din interesse på Facebook. Velkommen! \n  \n 
URL:https://kvartetforeningen.org/event/velkommen-til-spillekveld/
ATTACH;FMTTYPE=image/jpeg:https://kvartetforeningen.org/wp-content/uploads/2024/01/Bilde_strykekvartett_Helle_Stolz.jpg
END:VEVENT
BEGIN:VEVENT
DTSTART;VALUE=DATE:20221125
DTEND;VALUE=DATE:20221128
DTSTAMP:20260424T133656
CREATED:20220911T085818Z
LAST-MODIFIED:20220915T201951Z
UID:1559-1669334400-1669593599@kvartetforeningen.org
SUMMARY:Kvartetthelg 25.11 til 27.11.2022
DESCRIPTION:Kjære kvartettvenner\,\n\nHøstsemesterets kvartetthøydepunkt blir i år – som før pandemien – kvartetthelg med instruksjon fra Engegård-kvartetten 25-27. november i Uranienborg menighetshus.\n\nAlle amatørmusikere\, uansett nivå\, oppfordres til å melde seg på. Dersom du ikke har et ensemble å spille med\, kan du melde din interesse til styret\, så skal vi se om vi kan få koblet flere i samme situasjon. Tilsvarende arrangement i mars i år var særdeles vellykket!\n\nPris er 1950 kroner\, som inkluderer medlemsavgift på 300 kroner. Påmelding skjer til esther.ringdal@online.no ♪♫\n 
URL:https://kvartetforeningen.org/event/kvartetthelg-25-11-til-27-11-2022/
LOCATION:Uranienborg menighetshus\, Daasgate 17\, Oslo\, Norge
ORGANIZER;CN="Oslo Kvartettforening":MAILTO:kvartettforeningen@gmail.com
END:VEVENT
BEGIN:VEVENT
DTSTART;TZID=Europe/Oslo:20210616T183000
DTEND;TZID=Europe/Oslo:20210616T183000
DTSTAMP:20260424T133656
CREATED:20210615T184817Z
LAST-MODIFIED:20210615T184817Z
UID:1552-1623868200-1623868200@kvartetforeningen.org
SUMMARY:Spillekveld i Ths. Heftyesgate
DESCRIPTION:Onsdag 16. juni klokken 18.30 blir det spillekveld hos Esther Ringdal i Thomas Heftyes gate 42B. Vi har alle hatt elendig øvedisiplin under corona\, så rusten spilleform er ingen unnskyldning for ikke å møte. Både spillende og ikke-spillende er velkommen. Smittevernet vil bli ivaretatt. \nPåmelding skjer til kvartettforeningen (@) gmail.com. Foreløpig er det maksimalt ti deltakere – så først til mølla!
URL:https://kvartetforeningen.org/event/spillekveld-i-ths-heftyesgate/
LOCATION:I spisestuen\, Thomas Heftyes gate 42b\, Oslo
CATEGORIES:Medlemskonserter Oslo Kvartettforening
END:VEVENT
BEGIN:VEVENT
DTSTART;TZID=Europe/Oslo:20201015T183000
DTEND;TZID=Europe/Oslo:20201015T183000
DTSTAMP:20260424T133656
CREATED:20200822T125223Z
LAST-MODIFIED:20200822T125223Z
UID:1540-1602786600-1602786600@kvartetforeningen.org
SUMMARY:Huskonsert
DESCRIPTION:Nærmere informasjon kommer
URL:https://kvartetforeningen.org/event/huskonsert-2/
ORGANIZER;CN="Oslo Kvartettforening":MAILTO:kvartettforeningen@gmail.com
END:VEVENT
BEGIN:VEVENT
DTSTART;TZID=Europe/Oslo:20200917T183000
DTEND;TZID=Europe/Oslo:20200917T183000
DTSTAMP:20260424T133656
CREATED:20200822T125122Z
LAST-MODIFIED:20200822T125122Z
UID:1538-1600367400-1600367400@kvartetforeningen.org
SUMMARY:Huskonsert
DESCRIPTION:Nærmere informasjon kommer
URL:https://kvartetforeningen.org/event/huskonsert/
ORGANIZER;CN="Oslo Kvartettforening":MAILTO:kvartettforeningen@gmail.com
END:VEVENT
BEGIN:VEVENT
DTSTART;TZID=Europe/Oslo:20200828T190000
DTEND;TZID=Europe/Oslo:20200828T190000
DTSTAMP:20260424T133656
CREATED:20200822T124332Z
LAST-MODIFIED:20200822T125242Z
UID:1531-1598641200-1598641200@kvartetforeningen.org
SUMMARY:Årsmøte 2020
DESCRIPTION:Årsmøtet vil i år bli avholdt elektronisk. Innkallingen er sendt alle medlemmer pr e-post. Innkallingen inneholder også lenke til det elektroniske møtet. Nedenfor finner du agendaen for møtet. \nAgenda for Årsmøte Oslo Kvartettforening
URL:https://kvartetforeningen.org/event/arsmote-2020/
ORGANIZER;CN="Oslo Kvartettforening":MAILTO:kvartettforeningen@gmail.com
END:VEVENT
BEGIN:VEVENT
DTSTART;TZID=Europe/Oslo:20200519T113000
DTEND;TZID=Europe/Oslo:20200519T170000
DTSTAMP:20260424T133656
CREATED:20200109T181334Z
LAST-MODIFIED:20200109T181404Z
UID:1515-1589887800-1589907600@kvartetforeningen.org
SUMMARY:Lunsjkonsert i Vinterhagen
DESCRIPTION:Program: \nBrahms – Klarinettrio op. 114 \nCatherine Bullock\, bratsj\,\nTorleif Thedéen\, cello\,\nMarianna Shirinyan\, klaver
URL:https://kvartetforeningen.org/event/lunsjkonsert-i-vinterhagen-12/
LOCATION:Sentralen
END:VEVENT
BEGIN:VEVENT
DTSTART;TZID=Europe/Oslo:20200506T190000
DTEND;TZID=Europe/Oslo:20200506T190000
DTSTAMP:20260424T133656
CREATED:20200109T181555Z
LAST-MODIFIED:20200109T181555Z
UID:1517-1588791600-1588791600@kvartetforeningen.org
SUMMARY:Kork Kammer i Store Studio
DESCRIPTION:Program: \nModest Musorgskij/Arr: Michael Allen: Bilder fra en utstilling\nFlere verk for tuba \nAndreas Bratland\, tuba – med venner
URL:https://kvartetforeningen.org/event/kork-kammer-i-store-studio-2/
LOCATION:Store Studio\, NRK\, Bjørnstjerne Bjørnsons plass 1\, Oslo\, 0340\, Norge
CATEGORIES:Medlemskonserter Oslo Kvartettforening
ORGANIZER;CN="Kringkastingsorkesteret":MAILTO:jan.fredrik.heyerdahl@nrk.no
END:VEVENT
BEGIN:VEVENT
DTSTART;TZID=Europe/Oslo:20200428T190000
DTEND;TZID=Europe/Oslo:20200428T190000
DTSTAMP:20260424T133656
CREATED:20200109T181133Z
LAST-MODIFIED:20200109T182215Z
UID:1513-1588100400-1588100400@kvartetforeningen.org
SUMMARY:Kammerkonsert i Sentralen
DESCRIPTION:Program: \nChausson: Konsert for klaver\, fiolin og strykekvartett Op.21 \nStephan Barratt-Due\, fiolin\,\nBård Monsen\, fiolin\,\nJohannes Shantz\, fiolin\,\nAndres Maurette\, bratsj\,\nHans Emil Sollesnes \, cello\,\nChristian Ihle Hadland\, klaver
URL:https://kvartetforeningen.org/event/kemmerkonsert-i-sentralen/
LOCATION:Dextra Musica\, Øvre Slottsgate 3\, Oslo\, 0157\, Norway
CATEGORIES:Medlemskonserter Oslo Kvartettforening
END:VEVENT
BEGIN:VEVENT
DTSTART;TZID=Europe/Oslo:20200423T190000
DTEND;TZID=Europe/Oslo:20200423T190000
DTSTAMP:20260424T133656
CREATED:20200109T180951Z
LAST-MODIFIED:20200109T180951Z
UID:1511-1587668400-1587668400@kvartetforeningen.org
SUMMARY:Årsmøte - egen innkalling kommer
DESCRIPTION:Vi møtes til årsmøte og musikalsk samvær.\nServering av snitter og hvitvin.\nGjester er hjertelig velkommen. \nEgen innkalling med saksdokumenter kommer til foreningens medlemmer.
URL:https://kvartetforeningen.org/event/arsmote-egen-innkalling-kommer/
LOCATION:Uranienborg menighetshus\, Daasgate 17\, Oslo\, Norge
CATEGORIES:Medlemskonserter Oslo Kvartettforening
ORGANIZER;CN="Oslo Kvartettforening":MAILTO:kvartettforeningen@gmail.com
END:VEVENT
BEGIN:VEVENT
DTSTART;TZID=Europe/Oslo:20200331T113000
DTEND;TZID=Europe/Oslo:20200331T170000
DTSTAMP:20260424T133657
CREATED:20200109T180601Z
LAST-MODIFIED:20200109T180601Z
UID:1509-1585654200-1585674000@kvartetforeningen.org
SUMMARY:Lunsjkonsert i Vinterhagen
DESCRIPTION:Program: \nKraggerud: Utvalg fra Equinox \nHenning Kraggerud\, fiolin\,\nAleksandra Bukala\, klaver
URL:https://kvartetforeningen.org/event/lunsjkonsert-i-vinterhagen-11/
LOCATION:Sentralen\, Øvre Slottsgate 3\, Oslo\, Norway
ORGANIZER;CN="Dextra Musica":MAILTO:anders.bjornsen@sparebankstiftelsen.no
END:VEVENT
BEGIN:VEVENT
DTSTART;TZID=Europe/Oslo:20200325T190000
DTEND;TZID=Europe/Oslo:20200325T190000
DTSTAMP:20260424T133657
CREATED:20200109T180327Z
LAST-MODIFIED:20200109T180327Z
UID:1507-1585162800-1585162800@kvartetforeningen.org
SUMMARY:Kork kammer i Store Studio
DESCRIPTION:Program: \nArnold Schönberg: Verklärte Nacht\nRichard Strauss: Metamorphosen \nHugo Hilde & Oda Gihle Hilde\, fiolin\,\nMagnus Boye Hansen & Einar Kyvik Bauge\, bratsj\,\nSverre Barratt-Due & Dorran Alibaud\, cello\,\nPatrick Wilder\, kontrabass
URL:https://kvartetforeningen.org/event/kork-kammer-i-store-studio/
LOCATION:Store Studio\, NRK\, Bjørnstjerne Bjørnsons plass 1\, Oslo\, 0340\, Norge
CATEGORIES:Medlemskonserter Oslo Kvartettforening
END:VEVENT
BEGIN:VEVENT
DTSTART;TZID=Europe/Oslo:20200317T190000
DTEND;TZID=Europe/Oslo:20200317T190000
DTSTAMP:20260424T133657
CREATED:20200109T180124Z
LAST-MODIFIED:20200109T182339Z
UID:1505-1584471600-1584471600@kvartetforeningen.org
SUMMARY:Lunsjkonsert i Sentralen
DESCRIPTION:Kammerkonsert \nFor program: Følg med på klassisktirsdag.no
URL:https://kvartetforeningen.org/event/lunsjkonsert-i-sentralen/
LOCATION:Sentralen\, Øvre Slottsgate 3\, Oslo\, Norway
END:VEVENT
BEGIN:VEVENT
DTSTART;TZID=Europe/Oslo:20200308T140000
DTEND;TZID=Europe/Oslo:20200308T170000
DTSTAMP:20260424T133657
CREATED:20200109T175955Z
LAST-MODIFIED:20200109T175955Z
UID:1503-1583676000-1583686800@kvartetforeningen.org
SUMMARY:Kammerkonsert i Gamle Logen
DESCRIPTION:Program: \nAnton Bruckner Adagio for strykekvintett\, WAB 112\nPjotr Tsjaikovskij Strykesekstett i d-moll «Souvenir de Florence» \nLeah Andonov\, fiolin\,\nMariam Magradze\, fiolin\,\nCecilia Wilder\, bratsj\,\nKatharina Hager-Saltnes\, cello\,\nCécile-Laure Kouassi\, kontrabass
URL:https://kvartetforeningen.org/event/kammerkonsert-i-gamle-logen-3/
LOCATION:Gamle Logen\, Grev Wedels Plass 2\, Oslo\, 0151\, Norway
CATEGORIES:Medlemskonserter Oslo Kvartettforening
ORGANIZER;CN="Oslo Filharmoniske Orkester":MAILTO:salgskontor@oslofilharmonien.no 
END:VEVENT
BEGIN:VEVENT
DTSTART;TZID=Europe/Oslo:20200303T113000
DTEND;TZID=Europe/Oslo:20200303T170000
DTSTAMP:20260424T133657
CREATED:20200109T175734Z
LAST-MODIFIED:20200109T175734Z
UID:1501-1583235000-1583254800@kvartetforeningen.org
SUMMARY:Lunsjkonsert i Vinterhagen
DESCRIPTION:Program: \nPjotr Tsjaikovskij Strykesekstett i d-moll «Souvenir de Florence» \nNhi Phuong Do\, fiolin\,\nØyvind Fossheim\, fiolin\,\nNjord Kårason Fossnes\, bratsj\,\nIda Bryhn\, bratsj\,\nBalder Hella Mikkelsen\, cello\,\nAudun Sandvik\, cello
URL:https://kvartetforeningen.org/event/lunsjkonsert-i-vinterhagen-10/
LOCATION:Sentralen\, Øvre Slottsgate 3\, Oslo\, Norway
END:VEVENT
BEGIN:VEVENT
DTSTART;TZID=Europe/Oslo:20200227T190000
DTEND;TZID=Europe/Oslo:20200227T190000
DTSTAMP:20260424T133657
CREATED:20200109T175550Z
LAST-MODIFIED:20200109T182644Z
UID:1499-1582830000-1582830000@kvartetforeningen.org
SUMMARY:Spilleaften for medlemmer og venner.
DESCRIPTION:Vi spiller sammen og for hverandre i Thomas Heftyes gate 42B. \nMer informasjon kommer\, med påmeldingsinformasjon.
URL:https://kvartetforeningen.org/event/spilleaften-for-medlemmer-og-venner/
CATEGORIES:Medlemskonserter Oslo Kvartettforening
END:VEVENT
BEGIN:VEVENT
DTSTART;TZID=Europe/Oslo:20200218T190000
DTEND;TZID=Europe/Oslo:20200218T190000
DTSTAMP:20260424T133657
CREATED:20200109T175339Z
LAST-MODIFIED:20200109T182507Z
UID:1497-1582052400-1582052400@kvartetforeningen.org
SUMMARY:Kammerkonsert i Sentralen
DESCRIPTION:Kammerkonsert i Sentralen. \nFor program: Følg med på klassisktirsdag.no.
URL:https://kvartetforeningen.org/event/kammerkonsert-i-sentralen-2/
LOCATION:Sentralen\, Øvre Slottsgate 3\, Oslo\, Norway
CATEGORIES:Medlemskonserter Oslo Kvartettforening
END:VEVENT
BEGIN:VEVENT
DTSTART;TZID=Europe/Oslo:20200216T140000
DTEND;TZID=Europe/Oslo:20200216T170000
DTSTAMP:20260424T133657
CREATED:20200109T175134Z
LAST-MODIFIED:20200109T175134Z
UID:1495-1581861600-1581872400@kvartetforeningen.org
SUMMARY:Kammerkonsert i Gamle Logen
DESCRIPTION:Program: \nMaurice Ravel Introduction et Allegro pour harpe et ensemble\nLuciano Berio Folk Songs \nBirgitte Volan Håvik\, harpe\,\nStina Steingrim Levvel\, sopran\,\nHelen Benson\, fløyte\,\nPierre Xhonneux\, klarinett\,\nIngeborg Fimreite\, fiolin\,\nArthur Bedouelle\, bratsj\,\nJohannes Martens\, cello
URL:https://kvartetforeningen.org/event/kammerkonsert-i-gamle-logen-2/
LOCATION:Gamle Logen\, Grev Wedels Plass 2\, Oslo\, 0151\, Norway
CATEGORIES:Medlemskonserter Oslo Kvartettforening
ORGANIZER;CN="Oslo Filharmoniske Orkester":MAILTO:salgskontor@oslofilharmonien.no 
END:VEVENT
END:VCALENDAR